BEGIN:VCALENDAR
VERSION:2.0
PRODID:-//The Leadership LAB - ECPv6.15.20//NONSGML v1.0//EN
CALSCALE:GREGORIAN
METHOD:PUBLISH
X-WR-CALNAME:The Leadership LAB
X-ORIGINAL-URL:https://leadership-lab.org
X-WR-CALDESC:Events for The Leadership LAB
REFRESH-INTERVAL;VALUE=DURATION:PT1H
X-Robots-Tag:noindex
X-PUBLISHED-TTL:PT1H
BEGIN:VTIMEZONE
TZID:America/Los_Angeles
BEGIN:DAYLIGHT
TZOFFSETFROM:-0800
TZOFFSETTO:-0700
TZNAME:PDT
DTSTART:20210314T100000
END:DAYLIGHT
BEGIN:STANDARD
TZOFFSETFROM:-0700
TZOFFSETTO:-0800
TZNAME:PST
DTSTART:20211107T090000
END:STANDARD
BEGIN:DAYLIGHT
TZOFFSETFROM:-0800
TZOFFSETTO:-0700
TZNAME:PDT
DTSTART:20220313T100000
END:DAYLIGHT
BEGIN:STANDARD
TZOFFSETFROM:-0700
TZOFFSETTO:-0800
TZNAME:PST
DTSTART:20221106T090000
END:STANDARD
BEGIN:DAYLIGHT
TZOFFSETFROM:-0800
TZOFFSETTO:-0700
TZNAME:PDT
DTSTART:20230312T100000
END:DAYLIGHT
BEGIN:STANDARD
TZOFFSETFROM:-0700
TZOFFSETTO:-0800
TZNAME:PST
DTSTART:20231105T090000
END:STANDARD
END:VTIMEZONE
BEGIN:VTIMEZONE
TZID:UTC
BEGIN:STANDARD
TZOFFSETFROM:+0000
TZOFFSETTO:+0000
TZNAME:UTC
DTSTART:20210101T000000
END:STANDARD
END:VTIMEZONE
BEGIN:VEVENT
DTSTART;VALUE=DATE:20221029
DTEND;VALUE=DATE:20221030
DTSTAMP:20260421T055641
CREATED:20220916T220208Z
LAST-MODIFIED:20220916T220208Z
UID:3054-1667001600-1667087999@leadership-lab.org
SUMMARY:Buena Park Canvass Day 6
DESCRIPTION:Here at the Leadership LAB we’ve learned how to have open\, human conversations with conflicted and unsupportive others that uproot prejudice in a lasting way. We’re still learning\, and everything we learn will allow us to help campaigns across the country combat this threat. It takes lots of people working in concert\, having many conversations with voters\, and thinking together about how to make those conversations more effective. It takes determined people supporting each other to do challenging work and become better leaders. \n  \nWe need you to join us in our efforts to canvass throughout this election season. We need you to try your hand at making a connection with conflicted voters and helping them think differently. If having a conversation with strangers worries you\, we’d still like to invite you to join the canvass team! We need support from videographers and content capturers to help record conversations other volunteers are having with voters. Rest assured we’ll do an extensive\, hour-long training that will teach you everything you need to know. All you need to bring is yourself. And friends! If you are interested in joining us on a canvass day sign up below! \n 
URL:https://leadership-lab.org/event/buena-park-canvass-day-6/
LOCATION:Buena Park\, CA\, 90620\, United States
CATEGORIES:Canvass Day
ATTACH;FMTTYPE=image/png:https://leadership-lab.org/wp-content/uploads/2017/04/Screen-Shot-2022-08-02-at-4.55.28-PM.png
ORGANIZER;CN="The Leadershp LAB":MAILTO:emayle@lalgbtcenter.org
END:VEVENT
BEGIN:VEVENT
DTSTART;VALUE=DATE:20221022
DTEND;VALUE=DATE:20221023
DTSTAMP:20260421T055641
CREATED:20220916T220014Z
LAST-MODIFIED:20220916T220547Z
UID:3052-1666396800-1666483199@leadership-lab.org
SUMMARY:Buena Park Canvass Day 5
DESCRIPTION:Here at the Leadership LAB we’ve learned how to have open\, human conversations with conflicted and unsupportive others that uproot prejudice in a lasting way. We’re still learning\, and everything we learn will allow us to help campaigns across the country combat this threat. It takes lots of people working in concert\, having many conversations with voters\, and thinking together about how to make those conversations more effective. It takes determined people supporting each other to do challenging work and become better leaders. \n  \nWe need you to join us in our efforts to canvass throughout this election season. We need you to try your hand at making a connection with conflicted voters and helping them think differently. If having a conversation with strangers worries you\, we’d still like to invite you to join the canvass team! We need support from videographers and content capturers to help record conversations other volunteers are having with voters. Rest assured we’ll do an extensive\, hour-long training that will teach you everything you need to know. All you need to bring is yourself. And friends! If you are interested in joining us on a canvass day sign up below! \n 
URL:https://leadership-lab.org/event/buena-park-canvass-day-5/
LOCATION:Buena Park\, CA\, 90620\, United States
CATEGORIES:Canvass Day
ATTACH;FMTTYPE=image/png:https://leadership-lab.org/wp-content/uploads/2017/04/Screen-Shot-2022-08-02-at-4.55.28-PM.png
ORGANIZER;CN="The Leadershp LAB":MAILTO:emayle@lalgbtcenter.org
END:VEVENT
BEGIN:VEVENT
DTSTART;VALUE=DATE:20221015
DTEND;VALUE=DATE:20221016
DTSTAMP:20260421T055641
CREATED:20220916T215907Z
LAST-MODIFIED:20220916T220050Z
UID:3050-1665792000-1665878399@leadership-lab.org
SUMMARY:Buena Park Canvass Day 4
DESCRIPTION:Here at the Leadership LAB we’ve learned how to have open\, human conversations with conflicted and unsupportive others that uproot prejudice in a lasting way. We’re still learning\, and everything we learn will allow us to help campaigns across the country combat this threat. It takes lots of people working in concert\, having many conversations with voters\, and thinking together about how to make those conversations more effective. It takes determined people supporting each other to do challenging work and become better leaders. \n  \nWe need you to join us in our efforts to canvass throughout this election season. We need you to try your hand at making a connection with conflicted voters and helping them think differently. If having a conversation with strangers worries you\, we’d still like to invite you to join the canvass team! We need support from videographers and content capturers to help record conversations other volunteers are having with voters. Rest assured we’ll do an extensive\, hour-long training that will teach you everything you need to know. All you need to bring is yourself. And friends! If you are interested in joining us on a canvass day sign up below! \n 
URL:https://leadership-lab.org/event/buena-park-canvass-day-4/
LOCATION:Buena Park\, CA\, 90620\, United States
CATEGORIES:Canvass Day
ATTACH;FMTTYPE=image/png:https://leadership-lab.org/wp-content/uploads/2017/04/Screen-Shot-2022-08-02-at-4.55.28-PM.png
ORGANIZER;CN="The Leadershp LAB":MAILTO:emayle@lalgbtcenter.org
END:VEVENT
BEGIN:VEVENT
DTSTART;VALUE=DATE:20221008
DTEND;VALUE=DATE:20221009
DTSTAMP:20260421T055641
CREATED:20220916T215803Z
LAST-MODIFIED:20220916T220038Z
UID:3048-1665187200-1665273599@leadership-lab.org
SUMMARY:Buena Park Canvass Day 3
DESCRIPTION:Here at the Leadership LAB we’ve learned how to have open\, human conversations with conflicted and unsupportive others that uproot prejudice in a lasting way. We’re still learning\, and everything we learn will allow us to help campaigns across the country combat this threat. It takes lots of people working in concert\, having many conversations with voters\, and thinking together about how to make those conversations more effective. It takes determined people supporting each other to do challenging work and become better leaders. \n  \nWe need you to join us in our efforts to canvass throughout this election season. We need you to try your hand at making a connection with conflicted voters and helping them think differently. If having a conversation with strangers worries you\, we’d still like to invite you to join the canvass team! We need support from videographers and content capturers to help record conversations other volunteers are having with voters. Rest assured we’ll do an extensive\, hour-long training that will teach you everything you need to know. All you need to bring is yourself. And friends! If you are interested in joining us on a canvass day sign up below! \n 
URL:https://leadership-lab.org/event/buena-park-canvass-day-3/
LOCATION:Buena Park\, CA\, 90620\, United States
CATEGORIES:Canvass Day
ATTACH;FMTTYPE=image/png:https://leadership-lab.org/wp-content/uploads/2017/04/Screen-Shot-2022-08-02-at-4.55.28-PM.png
ORGANIZER;CN="The Leadershp LAB":MAILTO:emayle@lalgbtcenter.org
END:VEVENT
BEGIN:VEVENT
DTSTART;VALUE=DATE:20220924
DTEND;VALUE=DATE:20220925
DTSTAMP:20260421T055641
CREATED:20220916T215652Z
LAST-MODIFIED:20220916T215652Z
UID:3046-1663977600-1664063999@leadership-lab.org
SUMMARY:Buena Park Canvass Day 2
DESCRIPTION:Here at the Leadership LAB we’ve learned how to have open\, human conversations with conflicted and unsupportive others that uproot prejudice in a lasting way. We’re still learning\, and everything we learn will allow us to help campaigns across the country combat this threat. It takes lots of people working in concert\, having many conversations with voters\, and thinking together about how to make those conversations more effective. It takes determined people supporting each other to do challenging work and become better leaders. \n  \nWe need you to join us in our efforts to canvass throughout this election season. We need you to try your hand at making a connection with conflicted voters and helping them think differently. If having a conversation with strangers worries you\, we’d still like to invite you to join the canvass team! We need support from videographers and content capturers to help record conversations other volunteers are having with voters. Rest assured we’ll do an extensive\, hour-long training that will teach you everything you need to know. All you need to bring is yourself. And friends! If you are interested in joining us on a canvass day sign up below! \n 
URL:https://leadership-lab.org/event/buena-park-canvass-day-2/
LOCATION:Buena Park\, CA\, 90620\, United States
CATEGORIES:Canvass Day
ATTACH;FMTTYPE=image/png:https://leadership-lab.org/wp-content/uploads/2017/04/Screen-Shot-2022-08-02-at-4.55.28-PM.png
ORGANIZER;CN="The Leadershp LAB":MAILTO:emayle@lalgbtcenter.org
END:VEVENT
BEGIN:VEVENT
DTSTART;VALUE=DATE:20220917
DTEND;VALUE=DATE:20220918
DTSTAMP:20260421T055641
CREATED:20170425T171851Z
LAST-MODIFIED:20220916T215355Z
UID:2644-1663372800-1663459199@leadership-lab.org
SUMMARY:Buena Park Canvass Day 1
DESCRIPTION:Here at the Leadership LAB we’ve learned how to have open\, human conversations with conflicted and unsupportive others that uproot prejudice in a lasting way. We’re still learning\, and everything we learn will allow us to help campaigns across the country combat this threat. It takes lots of people working in concert\, having many conversations with voters\, and thinking together about how to make those conversations more effective. It takes determined people supporting each other to do challenging work and become better leaders. \n  \nWe need you to join us in our efforts to canvass throughout this election season. We need you to try your hand at making a connection with conflicted voters and helping them think differently. If having a conversation with strangers worries you\, we’d still like to invite you to join the canvass team! We need support from videographers and content capturers to help record conversations other volunteers are having with voters. Rest assured we’ll do an extensive\, hour-long training that will teach you everything you need to know. All you need to bring is yourself. And friends! If you are interested in joining us on a canvass day sign up below! \n 
URL:https://leadership-lab.org/event/buena-park-canvass-day/
LOCATION:Buena Park\, CA\, 90620\, United States
CATEGORIES:Canvass Day
ATTACH;FMTTYPE=image/png:https://leadership-lab.org/wp-content/uploads/2017/04/Screen-Shot-2022-08-02-at-4.55.28-PM.png
ORGANIZER;CN="The Leadershp LAB":MAILTO:emayle@lalgbtcenter.org
END:VEVENT
END:VCALENDAR